BEGIN:VCALENDAR
VERSION:2.0
PRODID:-//DEVELOPMENT mariCUBE - ECPv6.7.1//NONSGML v1.0//EN
CALSCALE:GREGORIAN
METHOD:PUBLISH
X-WR-CALNAME:DEVELOPMENT mariCUBE
X-ORIGINAL-URL:https://dev.maricube.de
X-WR-CALDESC:Veranstaltungen für DEVELOPMENT mariCUBE
REFRESH-INTERVAL;VALUE=DURATION:PT1H
X-Robots-Tag:noindex
X-PUBLISHED-TTL:PT1H
BEGIN:VTIMEZONE
TZID:Europe/Berlin
BEGIN:DAYLIGHT
TZOFFSETFROM:+0100
TZOFFSETTO:+0200
TZNAME:CEST
DTSTART:20230326T010000
END:DAYLIGHT
BEGIN:STANDARD
TZOFFSETFROM:+0200
TZOFFSETTO:+0100
TZNAME:CET
DTSTART:20231029T010000
END:STANDARD
END:VTIMEZONE
BEGIN:VEVENT
DTSTART;TZID=Europe/Berlin:20230426T170000
DTEND;TZID=Europe/Berlin:20230426T200000
DTSTAMP:20260423T213854
CREATED:20230413T080010Z
LAST-MODIFIED:20230420T074329Z
UID:10000061-1682528400-1682539200@dev.maricube.de
SUMMARY:Wie wollen wir in Zukunft leben\, lernen und arbeiten?
DESCRIPTION:Netzwerken\, Catering in geselliger Runde\, Austausch von Ideen und Erfahrungen\n\n\nKreativzentren – Motor unserer neuen Arbeitswelt? \nImpulsvortrag von Heiko Kolz zur neuen Arbeitswelt bei uns im CAT mit Möglichkeit zu kreativem Austausch und Netzwerken. \nCoworking\, coliving\, cocreation\, New Work – all das sind  aktuelle Begriffe – aber was steckt eigentlich dahinter? Welche Ideen\, Inhalte und Ziele? Und was hat all das mit unserer neuen Arbeitswelt zu tun? Heiko Kolz ist überzeugt: Wenn Coworking-Spaces und andere neue Arbeitswelten als Kreativzentren gedacht werden\,  bieten sie – vor allem auch vor dem Hintergrund eines möglichen Fachkräftemangels –  neue Chancen für die Arbeitswelt von morgen und zum gesellschaftlichen Austausch. \n„Wir wissen nicht wie unsere (Arbeits-)Welt in zehn oder zwanzig Jahren aussehen wird. Sicher dagegen ist aus meiner Sicht\, dass wir neue Lern- und Experimentierorte brauchen\, die für alle offen sind“\, erläutert er sein Anliegen. „Fähigkeiten wie Eigenverantwortung\, Selbstvertrauen\, Flexibilität\, Kreativität und das Agieren unter Unsicherheit werden entscheidend sein. \nWorum geht’s? \nIn seinem ca. 30-minütigen Impulsvortrag beschäftigt sich Kolz mit dieser Idee: Kreativzentren als Orte\, an denen Menschen aus verschiedenen Generationen und Fachrichtungen zusammenkommen\, ihrer eigenen Arbeit nachgehen\, aber auch gemeinsame Projekte starten. „Diese wollen wir in den Kreativzentren erlebbar und erlernbar machen. Ob Programmierer\, KünstlerInnen\, Startups oder etablierte Unternehmen\, ob Gesellschaft\, Poli-tik oder Wirtschaft: wir müssen miteinander sprechen\, uns austauschen und gemeinsame Visionen entwickeln“\, ist er überzeugt. \nHeiko Kolz\, 36\, ist gelernter Dachdecker\, studierter Volkswirt und Unter-nehmensberater in Sachen Gründung\, CoWorking\, New Work und Persönlichkeitsentwicklung. Als Geschäftsführer von Kreativzentren beschäftigt er sich mit den Themen Mobilität\, Ernährung\, Arbeitswelt\, Klima quer durch alle Fachrichtungen und Generationen. \n Wann?  \n26.04.2023 um 17:00 Uhr \nWo? \nCentrum für angewandte Technologien\, Marschstraße 30 a\, 25704 Meldorf \nDa Essen verbindet\, sorgen wir an dem Abend für einen kleinen Snack und Getränke. Die Ticketanzahl ist begrenzt\, daher bitten wir um Anmeldung bis zum 21.04.2023. \n \nFörderhinweis \nDas Projekt Existenzgründung Westküste wird gefördert vom Landesprogramm Arbeit des Landes Schleswig-Holstein aus Mitteln der Aufbauhilfe REACT-EU im Rahmen des Europäischen Sozialfonds (ESF). Die Europäische Union hat damit ein Hilfsprogramm aufgelegt\, mit der die wirtschaftlichen und sozialen Folgen der Covid19-Pandemie in Europa abgefedert werden sollen. REACT-EU steht für “Recovery Assistance for Cohesion and the Territories of Europe” (Aufbauhilfe für den Zusammenhalt und die Gebiete Europas).
URL:https://dev.maricube.de/event/wie-wollen-wir-in-zukunft-leben-lernen-und-arbeiten/
LOCATION:Centrum für Angewandte Technologien\, Marschstraße 30A\, Meldorf\, SH\, 25704\, Germany
CATEGORIES:CAT Veranstaltung
ATTACH;FMTTYPE=image/jpeg:https://dev.maricube.de/wp-content/uploads/2023/04/177cbd9d9c9bc3f59c12558c45063ef6.jpg
END:VEVENT
END:VCALENDAR