BEGIN:VCALENDAR
VERSION:2.0
PRODID:-//DEVELOPMENT mariCUBE - ECPv6.7.1//NONSGML v1.0//EN
CALSCALE:GREGORIAN
METHOD:PUBLISH
X-WR-CALNAME:DEVELOPMENT mariCUBE
X-ORIGINAL-URL:https://dev.maricube.de
X-WR-CALDESC:Veranstaltungen für DEVELOPMENT mariCUBE
REFRESH-INTERVAL;VALUE=DURATION:PT1H
X-Robots-Tag:noindex
X-PUBLISHED-TTL:PT1H
BEGIN:VTIMEZONE
TZID:Europe/Berlin
BEGIN:DAYLIGHT
TZOFFSETFROM:+0100
TZOFFSETTO:+0200
TZNAME:CEST
DTSTART:20230326T010000
END:DAYLIGHT
BEGIN:STANDARD
TZOFFSETFROM:+0200
TZOFFSETTO:+0100
TZNAME:CET
DTSTART:20231029T010000
END:STANDARD
END:VTIMEZONE
BEGIN:VEVENT
DTSTART;TZID=Europe/Berlin:20230621T183000
DTEND;TZID=Europe/Berlin:20230621T203000
DTSTAMP:20260420T223000
CREATED:20230413T075903Z
LAST-MODIFIED:20230620T120331Z
UID:10000062-1687372200-1687379400@dev.maricube.de
SUMMARY:Infoveranstaltung für Existenzgründungsinteressierte
DESCRIPTION:1. Existenzgründung – wie geht das?\n2. Erfrischend unverstaubt! Steuern und Existenzgründung – das muss ich wissen!\n\n\nInfoveranstaltung für Existenzgründungsinteressierte  \nGründerInnen stehen oft vor großen Herausforderungen und haben viele Fragen im Kopf. Die Idee ist da\, aber was kommt dann? Unsere Referenten möchten die Teilnehmenden auf ihrem  Weg in die Selbstständigkeit begleiten und geben wertvolle Tipps für einen erfolgreichen Start:  \nExistenzgründung – wie geht das? \nStefanie Hein\, Dipl. Kffr. (FH)\, Projektmanagerin und Gründungsberaterin\, seit 14 Jahren Mitarbeiterin im Gründungs- und Technologiezentrum CAT \n•	Orientierung: Welche Wege gibt es in die Selbstständigkeit \n•	Was ist wichtig? Rahmenbedingungen\, Zielsetzung…. \n•	Entscheidungshilfe Businessplan: Warum und für wen \n•	Überblick Aufbau Businessplan \n•	Herausforderungen für GründerInnen \n•	Unterstützungs- und Beratungsangebot über das Gründungszentrum \n•	Raum für Fragen \n \nErfrischend unverstaubt! Steuern und Existenzgründung – das muss ich wissen!  \nMike Blankenberg\, Referent für Unternehmens – u. Steuerrecht \n•	Anmeldung beim Finanzamt – Vorsicht beim Fragebogen zur steuerlichen Erfassung  \n•	Was bin ich eigentlich? Selbstständig\, Startup\, Entrepreneur\, Gewerbetreibender\, Freiberuflicher\,                            \n        Freelancer…. ein Überblick  \n•	Kurzüberblick Buchführung. Pflichten machen oder machen lassen?  \n•	Welche Steuern kommen noch auf mich zu? Umsatzsteuer\, Gewerbesteuer\, vierteljährliche  \n        Einkommensteuern…  \n•	Wann kann ich Rechnungen schreiben und vor allem wie sollen diese aussehen \n•	Daran muss ich noch denken…. \nDie Veranstaltung ist kostenfrei aufgrund der ESF – React-EU Förderung. Die Teilnehmerzahl ist begrenzt. Anmeldungen werden bis zum 20.06.2023 entgegengenommen. \nDie Teilnehmenden dürfen sich bei der Veranstaltung gerne aktiv einbringen\, wenn sie mögen.
URL:https://dev.maricube.de/event/infoveranstaltung-fuer-existenzgruendungsinteressierte/
LOCATION:Marktbude\, Markt 38\, Heide\, SH\, 25746\, Germany
CATEGORIES:CAT Veranstaltung
ATTACH;FMTTYPE=image/jpeg:https://dev.maricube.de/wp-content/uploads/2023/03/f67c965bd1dcd74a6346c7bfa674faae.jpg
END:VEVENT
BEGIN:VEVENT
DTSTART;TZID=Europe/Berlin:20230628T090000
DTEND;TZID=Europe/Berlin:20230628T110000
DTSTAMP:20260420T223000
CREATED:20230523T095439Z
LAST-MODIFIED:20230620T120331Z
UID:10000064-1687942800-1687950000@dev.maricube.de
SUMMARY:FÄLLT LEIDER AUS! - Haltung bewahren – auch digital!
DESCRIPTION:Frühstück mal anders: Autor und Unternehmer Sven Enger kommt ins mariCUBE nach Büsum\n\n\nDer Wirtschafts- und Wissenschaftspark mariCUBE lädt am 28. Juni um 9.00 Uhr zu einer besonderen Auftaktveranstaltung\, dem Businessfrühstück\, ein. Zunächst kommen – ganz analog – Schnittchen  und andere Leckereien auf den Tisch\, danach ein Impulsvortrag mit dem  Stichwort „Zukunft verstehen heißt sie zu gestalten“ : Autor\, Keynote Speaker und Unternehmer Sven Enger\, Mitinhaber der Creative Company sam waikiki in Hamburg\, versteht sich auch als Impulsgeber für den digitalen Wandel: „Die Digitalisierung wird in Zukunft in allen Bereichen des Lebens eine Rolle spielen\, daher ist es unabdingbar dieses Thema in seiner Komplexität zu reflektieren“\, davon ist er überzeugt.  \nUnd es stimmt: an Entwicklungen wie Augmented Reality\, ChatGPT\, Robotik und anderen kommt niemand – ob aus Politik\, Sozialwesen\, Bildung oder Wirtschaft – vorbei. Die stetig und rasant voranschreitende Digitalisierung fordert von Entscheidern neue Antworten. Was genau bedeuten sie im Allgemeinen und speziell für jeden Einzelnen? Bis wohin können und wollen wir gehen\, wo liegen Grenzen? Sven Enger sucht Antworten und fokussiert sich in seinem zirka einstündigen Vortrag weniger auf die technologische Entwicklung als auf die Auswirkungen der Digitalisierung. „Über Wandel wird viel geredet und wenig nachgedacht – dabei ist es vor allem eine Frage der inneren Haltung!“\, so Enger. „Die Welt verändert sich in jedem Fall\, aber es ist nicht die Geschwindigkeit\, sondern die  \nBandbreite der Veränderung\, die uns überfordert\, denn sie betrifft alle Lebensbereiche und alle Branchen. Aufzuhalten sind diese Neuerungen nicht\, mit ihnen umzugehen und ihnen mit offenem Mindset und Mut zu begegnen\, in ihnen also mehr Chancen als Risiken zu sehen\, darum geht es“\, so Enger weiter. \nMit diesem Bewusstsein können und müssen Geschäftsmodelle und Prozesse richtungsweisend angepasst werden. Sven Enger\, der als studierter Wirtschaftspsychologie und Betriebswirt\, viele Jahre in Vorstandspositionen der Finanzbranche tätig war\, berichtet in seinem Vortrag aus gelebter Praxis und eigener Erfahrung. „Wir freuen uns sehr auf Herrn Enger und seine vermutlich vielen neuen Impulse – auch für junge StartUps in unserer Region“\, so Geschäftsführerin Martina Hummel-Manzau.  \nTermin: 28. Juni\, 9 bis 11 Uhr\, im mariCUBE\, Hafentörn 3\, Büsum.  Bitte beachten Sie\, dass für das Businessfrühstück lediglich begrenzte Teilnehmerplätze zur Verfügung stehen und um Anmeldung bis zum 21.06. gebeten wird.
URL:https://dev.maricube.de/event/haltung-bewahren-auch-digital/
LOCATION:Wirtschafts- und Wissenschaftspark mariCUBE\, Hafentörn 3\, Büsum\, SH\, 25761\, Germany
CATEGORIES:CAT Veranstaltung
ATTACH;FMTTYPE=image/jpeg:https://dev.maricube.de/wp-content/uploads/2023/05/d5dc0df496f0db8e68dfdd1ae049d0e1.jpg
END:VEVENT
END:VCALENDAR